BEGIN:VCALENDAR
VERSION:2.0
PRODID:-//2CC Talking Canberra - ECPv5.2.1//NONSGML v1.0//EN
CALSCALE:GREGORIAN
METHOD:PUBLISH
X-WR-CALNAME:2CC Talking Canberra
X-ORIGINAL-URL:https://www.2cc.net.au
X-WR-CALDESC:Events for 2CC Talking Canberra
BEGIN:VTIMEZONE
TZID:Australia/Sydney
BEGIN:STANDARD
TZOFFSETFROM:+1100
TZOFFSETTO:+1000
TZNAME:AEST
DTSTART:20210403T160000
END:STANDARD
BEGIN:DAYLIGHT
TZOFFSETFROM:+1000
TZOFFSETTO:+1100
TZNAME:AEDT
DTSTART:20211002T160000
END:DAYLIGHT
END:VTIMEZONE
BEGIN:VEVENT
DTSTART;TZID=Australia/Sydney:20210313T080000
DTEND;TZID=Australia/Sydney:20210314T170000
DTSTAMP:20210301T140451
CREATED:20210110T225556Z
LAST-MODIFIED:20210110T225613Z
UID:1312-1615622400-1615741200@www.2cc.net.au
SUMMARY:Canberra Lapidary Club Gem Show
DESCRIPTION:The Canberra Lapidary Club’s next gem show\, called the Rock Swap\, will be held\, COVID-19 restrictions permitting\, on 13 & 14 March 2021 at Acton Park (outdoors)\, EPIC.\nThere will be minerals\, fossils\, opals\, rough and cut gemstones\, beads\, jewellery\, lapidary equipment and supplies for sale.\nYou can sieve for sapphires and pan for gold!\nFood and drinks will be available.\nIt’s a great occasion to grab a bargain and entry is free.\nContact: Norm Menadue on (02) 6258 6631 or by email: nmenadue@optusnet.com.au \nLocation: At EPIC (Exhibition Park off the Federal Highway) in Canberra
URL:https://www.2cc.net.au/events/canberra-lapidary-club/
LOCATION:Exhibition Park\, Flemington Rd\, Mitchell\, ACT\, 2911\, Australia
END:VEVENT
END:VCALENDAR